BEGIN:VCALENDAR
VERSION:2.0
PRODID:-//Jeugd Skate Toernooi - ECPv6.3.1//NONSGML v1.0//EN
CALSCALE:GREGORIAN
METHOD:PUBLISH
X-WR-CALNAME:Jeugd Skate Toernooi
X-ORIGINAL-URL:https://www.jeugdskating.nl
X-WR-CALDESC:Evenementen voor Jeugd Skate Toernooi
REFRESH-INTERVAL;VALUE=DURATION:PT1H
X-Robots-Tag:noindex
X-PUBLISHED-TTL:PT1H
BEGIN:VTIMEZONE
TZID:Europe/Paris
BEGIN:DAYLIGHT
TZOFFSETFROM:+0100
TZOFFSETTO:+0200
TZNAME:CEST
DTSTART:20260329T010000
END:DAYLIGHT
BEGIN:STANDARD
TZOFFSETFROM:+0200
TZOFFSETTO:+0100
TZNAME:CET
DTSTART:20261025T010000
END:STANDARD
END:VTIMEZONE
BEGIN:VEVENT
DTSTART;TZID=Europe/Paris:20260517T120000
DTEND;TZID=Europe/Paris:20260517T170000
DTSTAMP:20260423T130620
CREATED:20230218T154307Z
LAST-MODIFIED:20260223T185352Z
UID:4717-1779019200-1779037200@www.jeugdskating.nl
SUMMARY:2e JST - Hensbroek
DESCRIPTION:Inschrijving JST van 12:00 tot 12:30. Start om 13:00 & sluiting rond 17:00.
URL:https://www.jeugdskating.nl/event/jst-hensbroek/
LOCATION:IJsclub Hensbroek\, Burgemeester Kooimanweg\, Hensbroek 1\, Noord-Holland\, 1711 KC\, Nederland
CATEGORIES:Jeugd Skate Toernooi
ATTACH;FMTTYPE=image/jpeg:https://www.jeugdskating.nl/wp-content/uploads/2023/02/Heemskerk-1-scaled-e1708709410256.jpg
END:VEVENT
BEGIN:VEVENT
DTSTART;TZID=Europe/Paris:20260607T120000
DTEND;TZID=Europe/Paris:20260607T170000
DTSTAMP:20260423T130620
CREATED:20230218T151906Z
LAST-MODIFIED:20260223T185450Z
UID:4534-1780833600-1780851600@www.jeugdskating.nl
SUMMARY:3e JST - Medemblik
DESCRIPTION:Inschrijving JST van 12:00 tot 12:30. Start om 13:00 & sluiting rond 17:00.
URL:https://www.jeugdskating.nl/event/jst-medemblik/
LOCATION:Medemblik\, Opperdoezerpad 2\, Medemblik\, Noord-Holland\, 1671NB\, Netherlands
CATEGORIES:Jeugd Skate Toernooi
ATTACH;FMTTYPE=image/jpeg:https://www.jeugdskating.nl/wp-content/uploads/2023/02/Medemblik.jpg
END:VEVENT
BEGIN:VEVENT
DTSTART;TZID=Europe/Paris:20260614T130000
DTEND;TZID=Europe/Paris:20260614T170000
DTSTAMP:20260423T130620
CREATED:20230218T154119Z
LAST-MODIFIED:20260223T185252Z
UID:4713-1781442000-1781456400@www.jeugdskating.nl
SUMMARY:4e JST - Purmerend
DESCRIPTION:Inschrijving JST van 12:00 tot 12:30. Start om 13:00 & sluiting rond 17:00.
URL:https://www.jeugdskating.nl/event/jst-purmerend/
LOCATION:Purmerend\, Trimpad 10\, Purmerend\, Noord-Holland\, 1443WB\, Netherlands
CATEGORIES:Jeugd Skate Toernooi
ATTACH;FMTTYPE=image/jpeg:https://www.jeugdskating.nl/wp-content/uploads/2023/02/Purmerring-luchtfoto.jpg
END:VEVENT
BEGIN:VEVENT
DTSTART;TZID=Europe/Paris:20260830T120000
DTEND;TZID=Europe/Paris:20260830T170000
DTSTAMP:20260423T130620
CREATED:20240223T171408Z
LAST-MODIFIED:20260311T212816Z
UID:5010-1788091200-1788109200@www.jeugdskating.nl
SUMMARY:5e JST - Hoogkarspel
DESCRIPTION:Inschrijving JST van 12:00 tot 12:30. Start om 13:00 & sluiting rond 17:00.
URL:https://www.jeugdskating.nl/event/hoogkarspel/
LOCATION:Heemskerk\, Adelaertlaan 5\, Heemskerk\, Noord-Holland\, 1967NN
CATEGORIES:Jeugd Skate Toernooi
ATTACH;FMTTYPE=image/jpeg:https://www.jeugdskating.nl/wp-content/uploads/2024/02/Hensbroek.jpg
END:VEVENT
BEGIN:VEVENT
DTSTART;TZID=Europe/Paris:20260913T120000
DTEND;TZID=Europe/Paris:20260913T170000
DTSTAMP:20260423T130620
CREATED:20230218T154343Z
LAST-MODIFIED:20260223T185528Z
UID:4719-1789300800-1789318800@www.jeugdskating.nl
SUMMARY:6e JST - Finale - Warmenhuizen
DESCRIPTION:Inschrijving JST van 12:00 tot 12:30. Start om 13:00 & eindigen met een grote prijsuitreiking rond 17:00!
URL:https://www.jeugdskating.nl/event/jst-warmenhuizen/
LOCATION:Warmenhuizen\, Oostwal 29\, Warmenhuizen\, Noord-Holland\, 1749XK
CATEGORIES:Jeugd Skate Toernooi
ATTACH;FMTTYPE=image/jpeg:https://www.jeugdskating.nl/wp-content/uploads/2023/02/Warmenhuizen.jpg
END:VEVENT
END:VCALENDAR